BEGIN:VCALENDAR
VERSION:2.0
PRODID:-//The Backyard Deals - ECPv4.6.13//NONSGML v1.0//EN
CALSCALE:GREGORIAN
METHOD:PUBLISH
X-WR-CALNAME:The Backyard Deals
X-ORIGINAL-URL:http://bydeals.co.nz
X-WR-CALDESC:Events for The Backyard Deals
BEGIN:VEVENT
DTSTART;VALUE=DATE:20180930
DTEND;VALUE=DATE:20181001
DTSTAMP:20181218T054548
CREATED:20180812T015155Z
LAST-MODIFIED:20180812T015155Z
UID:4306-1538265600-1538351999@bydeals.co.nz
SUMMARY:Backyard Lunch Voucher Deal
DESCRIPTION:($19.90 Voucher for Lunch and a Beer or Wine or Non-alcoholic drink)\nChoice of one Burger/ Pizza/ Salad and Glass Tap Beer/ House wine/ Non-alcoholic drink \nLunch Deal Meals include: \n\nBurgers & Sandwiches\nSalads\nPizzas\n\nLunch Deal Drinks include: \n\nGlass Tap Beer\nGlass House Wine – (greyling Range)\nAny Non-Alcoholic Drink (Not from cocktails list)\n\nTerms & Conditions: \nOffer expires day/month\, 2018\nMultiple vouchers can be purchased\nLunch Voucher Deal only applies to vouchers purchased online \n\nDine-in only \nVoucher Lunch Hours:\nBetween 12pm – 3pm sharp\nMonday to Friday Only \n1 Voucher per person per day\nMax 5 vouchers per booking and or per table\nMust be used in 1 visit\nNot to use in conjunction with any other offers or specials\nExcludes Functions\, Meetings and Events \nBookings are preferably however are subject to availability\n(Ph 09 419 6299 & quote voucher code)\n24-hour cancellation policy applies\, or voucher is void \nAll Lunch Deal Vouchers Expire at the end of……….\nNo exchanges. No refunds or cash back\n(except where required by law) \nR18 for alcohol. Host responsibility policy applies\nAlways drink responsibly \n\nNOT for use in conjunction with any other offers or specials \n
URL:http://bydeals.co.nz/event/backyard-lunch-voucher-deal/
LOCATION:31 Northcote Road\, Auckland\, 0627\, New Zealand
END:VEVENT
END:VCALENDAR